BEGIN:VCALENDAR
PRODID:-//kirchenweb.ch gmbh//veranstaltungsausgabe v2.0//DE
VERSION:2.0
METHOD:PUBLISH
BEGIN:VEVENT
DTSTART:20231217T160000Z
DTEND:20231217T170000Z
LOCATION:Evang.-Ref. Kirche Rheinfelden\, Zürcherstrasse 1\, 4310
  Rheinfelden
TRANSP:OPAQUE
SEQUENCE:0
UID:12899-veranstaltung@ref-rheinfelden.ch
DTSTAMP:20240111T104325Z
DESCRIPTION:Den Gottesdienst am 3. Advent nennen wir «Event im Advent».
  Nicht ohne Grund\, denn an diesem Abend passiert immer etwas Spannendes.
  Viele Kinder sind bereits angemeldet und die Rollen verteilt. Das
  Vorbereitungsfieber erfasst Klein und Gross. Aber Susanne Ammann\, die
  mit einem Team das Krippenspiel einstudiert\, hat alles in Griff. Sie
  verrät uns ein wenig darüber\, was uns in diesem Gottesdienst erwartet.
  \nSie schreibt: Es wird ein etwas anderes Krippenspiel sein. Um die 20
  Kinder sind eifrig am Proben und Filmen. Das Stück heisst «Fünf
  Könige unterwegs nach Bethlehem». Wir begleiten fünf Könige auf ihrem
  Weg zur Krippe\, filmisch und live – aber Achtung! – nur drei von
  ihnen haben gute Absichten. Das Publikum soll herausfinden\, welche drei
  das sind. Lassen Sie sich überraschen! \nKinder und Erwachsene sind
  herzlich eingeladen.\nSusanne Ammann und Leszek Ruszkowski\n\n\nKontakt:
  Pfr. Leszek Ruszkowski\n\nWeitere Infos:
  https://www.ref-rheinfelden.ch/veranstaltung/12899
SUMMARY:3. Advent: Familiengottesdienst mit Krippenspiel
PRIORITY:5
X-MICROSOFT-CDO-IMPORTANCE:1
CLASS:PUBLIC
END:VEVENT
END:VCALENDAR
