BEGIN:VCALENDAR
PRODID:-//kirchenweb.ch gmbh//veranstaltungsausgabe v2.0//DE
VERSION:2.0
METHOD:PUBLISH
BEGIN:VEVENT
DTSTART:20231224T210000Z
DTEND:20231224T220000Z
LOCATION:Evang.-Ref. Kirche Rheinfelden\, Zürcherstrasse 1\, 4310
  Rheinfelden
TRANSP:OPAQUE
SEQUENCE:0
UID:12868-veranstaltung@ref-rheinfelden.ch
DTSTAMP:20240111T104410Z
DESCRIPTION:Weihnachten zwischen Dissonanz und Harmonie\n\nHerzliche
  Einladung zum Gottesdienst um 22 Uhr in der reformierten Kirche in
  Rheinfelden. Es fällt immer schwerer das friedliche\, harmonische\,
  schöne Weihnachtsfest - das Fest des Friedens und der Familie - mit dem
  zu verbinden\, was wir auf der Welt so erleben an Krieg\, Unfrieden\,
  Grausamkeit und Dummheit. Der norwegische Künstler Trygve Skogrand hat
  versucht in seinen Bildern diesen Zwiespalt darzustellen. Er schafft die
  Verbindung zwischen Dissonanz und Harmonie. Und bringt uns so ins
  Nachdenken. Dissonanz und Harmonie gibt es auch in der Musik. Wir hören
  weihnachtliche Musik von  Nina Haugen (Orgel)\, Dominique Steiner
  (Oboe)\, Iris Ewald (Violine) und Aline Schnepp\, (Violoncello).\n
 \nKontakt: klaus-christian.hirte@ref-rheinfelden.ch\n\nWeitere Infos:
  https://www.ref-rheinfelden.ch/veranstaltung/12868
SUMMARY:Gottesdienst zur Christnacht
PRIORITY:5
X-MICROSOFT-CDO-IMPORTANCE:1
CLASS:PUBLIC
END:VEVENT
END:VCALENDAR
