BEGIN:VCALENDAR
PRODID:-//kirchenweb.ch gmbh//veranstaltungsausgabe v2.0//DE
VERSION:2.0
METHOD:PUBLISH
BEGIN:VEVENT
DTSTART:20231213T050000Z
DTEND:20231213T060000Z
LOCATION:Pfarreizentrum Am Schärme\, Heidemurweg 30\, 4303 Kaiseraugst
TRANSP:OPAQUE
SEQUENCE:0
UID:10276-veranstaltung@ref-rheinfelden.ch
DTSTAMP:20231129T160302Z
DESCRIPTION:Die zweite der beiden diesjährigen ökumenischen
  Rorate-Feiern findet in der römisch-katholischen Kirche St. Gallus und
  Othmar statt (die https://www.ref-rheinfelden.ch/veranstaltung/10275 am
  6. Dezember im reformierten Kirchgemeindehaus). \n\nHerzliche Einladung
  zu den traditionsreichen\, stimmungsvollen Früh-Gottesdiensten - und dem
  anschliessenden Zmoorge!\n\nPfr. Andreas Fischer\, Diakon Stephan
  Kochinky und Sozialdiakon Raphael Bachmann\n\n---\n\nJohannes der
  Täufer\, der Anachoret\, der Fremdling\, der Rufer in der Wüste\, passt
  in den Advent. Er selber fordert\, die Strassen gerade zu machen für den
  kommenden Gott. Und seine Jünger fragen Jesus\, ob er der Heiland sei\,
  der Retter der Welt\, auf den alle warten. Diese Frage – und die
  Antwort Jesu – begleitet uns durch die diesjährigen Rorate-Feiern\,
  die ökumenischen Frühgottesdienste:\n\nBist du der\, der KOMMEN soll\,
 \noder sollen wir auf einen anderen WARTEN?\nJesus antwortete: GEHT und
  berichtet\,\nwas ihr hört und seht. (Mt 11\,3f)\n\nDie erste findet am
  Mittwoch\, 6. Dezember um 6 Uhr (6/12/6) im reformierten
  Kirchgemeindehaus statt\, die zweite dann am 13. Dezember in der
  römisch-katholischen Kirche St. Gallus und Othmar. Und dieses Jahr
  findet erstmals noch eine dritte Rorate-Feier statt: am 20. Dezember in
  der reformierten Kirche Arisdorf.\n\n\n\n\nKontakt: Pfr. Andreas Fischer
 \n\nWeitere Infos: https://www.ref-rheinfelden.ch/veranstaltung/10276
SUMMARY:Rorate-Feier: "Bist du es\, der da kommen soll\, oder sollen wir
  auf einen anderen warten?"
PRIORITY:5
X-MICROSOFT-CDO-IMPORTANCE:1
CLASS:PUBLIC
END:VEVENT
END:VCALENDAR
